BEGIN:VCALENDAR
VERSION:2.0
PRODID:-//BatteryATL - ECPv6.15.17.1//NONSGML v1.0//EN
CALSCALE:GREGORIAN
METHOD:PUBLISH
X-WR-CALNAME:BatteryATL
X-ORIGINAL-URL:https://batteryatl.com
X-WR-CALDESC:Events for BatteryATL
REFRESH-INTERVAL;VALUE=DURATION:PT1H
X-Robots-Tag:noindex
X-PUBLISHED-TTL:PT1H
BEGIN:VTIMEZONE
TZID:America/New_York
BEGIN:DAYLIGHT
TZOFFSETFROM:-0500
TZOFFSETTO:-0400
TZNAME:EDT
DTSTART:20250309T070000
END:DAYLIGHT
BEGIN:STANDARD
TZOFFSETFROM:-0400
TZOFFSETTO:-0500
TZNAME:EST
DTSTART:20251102T060000
END:STANDARD
BEGIN:DAYLIGHT
TZOFFSETFROM:-0500
TZOFFSETTO:-0400
TZNAME:EDT
DTSTART:20260308T070000
END:DAYLIGHT
BEGIN:STANDARD
TZOFFSETFROM:-0400
TZOFFSETTO:-0500
TZNAME:EST
DTSTART:20261101T060000
END:STANDARD
BEGIN:DAYLIGHT
TZOFFSETFROM:-0500
TZOFFSETTO:-0400
TZNAME:EDT
DTSTART:20270314T070000
END:DAYLIGHT
BEGIN:STANDARD
TZOFFSETFROM:-0400
TZOFFSETTO:-0500
TZNAME:EST
DTSTART:20271107T060000
END:STANDARD
END:VTIMEZONE
BEGIN:VEVENT
DTSTART;TZID=America/New_York:20260418T210000
DTEND;TZID=America/New_York:20260418T233000
DTSTAMP:20260419T201032
CREATED:20260217T161622Z
LAST-MODIFIED:20260217T162108Z
UID:10005012-1776546000-1776555000@batteryatl.com
SUMMARY:WrestleMania at Live! at The Battery Atlanta
DESCRIPTION:Live! At The Battery Atlanta is the ultimate viewing destination for WrestleMania! \nThe Grandest Stage of Them All\, witness every high-flying maneuver and feel like you’re ringside. Live! at The Battery Atlanta brings you the spectacle of WWE like never before. One destination for every title defense and iconic return; they’ve got your professional wrestling fix covered. Don’t miss a single three-count on their wall-to-wall screens\, including the epic 32-footer. \nClick here for more information!
URL:https://batteryatl.com/event/wrestlemania-at-live-at-the-battery-atlanta/2026-04-18/
LOCATION:Live! at The Battery Atlanta\, 825 Battery Ave SE\, Atlanta\, GA\, 30339\, United States
CATEGORIES:Dine
ATTACH;FMTTYPE=image/png:https://batteryatl.com/wp-content/uploads/2025/04/LATB-UFC.png
ORGANIZER;CN="Live! at The Battery Atlanta":MAILTO:info@liveatthebatteryatlanta.com
GEO:33.8895474;-84.4693563
X-APPLE-STRUCTURED-LOCATION;VALUE=URI;X-ADDRESS=Live! at The Battery Atlanta 825 Battery Ave SE Atlanta GA 30339 United States;X-APPLE-RADIUS=500;X-TITLE=825 Battery Ave SE:geo:-84.4693563,33.8895474
END:VEVENT
BEGIN:VEVENT
DTSTART;TZID=America/New_York:20260417T200000
DTEND;TZID=America/New_York:20260417T233000
DTSTAMP:20260419T201032
CREATED:20260414T145459Z
LAST-MODIFIED:20260414T145459Z
UID:10005162-1776456000-1776468600@batteryatl.com
SUMMARY:PBR: Bootchella at Live! at The Battery Atlanta
DESCRIPTION:Get ready for the ultimate festival remix at PBR Atlanta! On April 17th\, Live! is bringing the high-energy vibes of the desert to PBR for Bootchella. Trade your flower crowns for cowboy hats and enjoy an unforgettable night featuring live artists performing on their patio. \nLive! is turning up the heat with exclusive giveaways\, including your chance to win tickets to Braves Country Fest! Whether you’re here for the live music\, the cold drinks\, or the festival atmosphere\, this is the oasis you’ve been looking for. Grab your crew\, find your best fringe\, and get ready to dance where the boots stomp and beats drop! \nClick here for more information!
URL:https://batteryatl.com/event/pbr-bootchella-at-live-at-the-battery-atlanta/
LOCATION:Live! at The Battery Atlanta\, 825 Battery Ave SE\, Atlanta\, GA\, 30339\, United States
CATEGORIES:Play
ATTACH;FMTTYPE=image/jpeg:https://batteryatl.com/wp-content/uploads/2026/04/PBR-3.jpg
ORGANIZER;CN="Live! at The Battery Atlanta":MAILTO:info@liveatthebatteryatlanta.com
GEO:33.8895474;-84.4693563
X-APPLE-STRUCTURED-LOCATION;VALUE=URI;X-ADDRESS=Live! at The Battery Atlanta 825 Battery Ave SE Atlanta GA 30339 United States;X-APPLE-RADIUS=500;X-TITLE=825 Battery Ave SE:geo:-84.4693563,33.8895474
END:VEVENT
BEGIN:VEVENT
DTSTART;TZID=America/New_York:20260411T210000
DTEND;TZID=America/New_York:20260411T233000
DTSTAMP:20260419T201032
CREATED:20260312T191743Z
LAST-MODIFIED:20260408T194029Z
UID:10005084-1775941200-1775950200@batteryatl.com
SUMMARY:UFC 327 at Live! at The Battery Atlanta
DESCRIPTION:Live! At The Battery Atlanta is the ultimate viewing destination for UFC. Get ready for a night of knockout action at UFC Fight Night! \nFight Night Live! Witness the knockouts\, feel like you’re there – Live! at the Battery brings you Fight Night like never before. Multiple fights. One destination. Boxing\, UFC\, and more – they’ve got your combat fix covered. Don’t miss a punch with their wall-to-wall screens\, including the epic 32-footer. \nEnjoy delicious food\, featured drinks\, and even can cocktail buckets throughout this unforgettable fight experience! \nClick here for more information!
URL:https://batteryatl.com/event/ufc-327-at-live-at-the-battery-atlanta/
LOCATION:Live! at The Battery Atlanta\, 825 Battery Ave SE\, Atlanta\, GA\, 30339\, United States
CATEGORIES:Dine
ATTACH;FMTTYPE=image/png:https://batteryatl.com/wp-content/uploads/2025/04/LATB-UFC.png
ORGANIZER;CN="Live! at The Battery Atlanta":MAILTO:info@liveatthebatteryatlanta.com
GEO:33.8895474;-84.4693563
X-APPLE-STRUCTURED-LOCATION;VALUE=URI;X-ADDRESS=Live! at The Battery Atlanta 825 Battery Ave SE Atlanta GA 30339 United States;X-APPLE-RADIUS=500;X-TITLE=825 Battery Ave SE:geo:-84.4693563,33.8895474
END:VEVENT
BEGIN:VEVENT
DTSTART;TZID=America/New_York:20260403T173000
DTEND;TZID=America/New_York:20260403T200000
DTSTAMP:20260419T201032
CREATED:20260217T161009Z
LAST-MODIFIED:20260217T161009Z
UID:10005011-1775237400-1775246400@batteryatl.com
SUMMARY:Bingo Loco at Live! at The Battery Atlanta
DESCRIPTION:The global sensation Bingo Loco is hitting Live! at The Battery Atlanta for a night of epic proportions! Expect the unexpected with rave rounds\, dance battles\, and a soundtrack of throwback anthems. With prizes ranging from the bizarre to the life-changing\, every round is a thrill. \nDoors open at 5:30 PM for this strictly 21+ event. Make sure you and your squad are ready for a 2.5-hour interactive rave that redefines a night out. From the first call to the final confetti blast\, it’s going to be legendary. Get your tickets before they’re gone! \nClick here for more information!
URL:https://batteryatl.com/event/bingo-loco-at-live-at-the-battery-atlanta/
LOCATION:Live! at The Battery Atlanta\, 825 Battery Ave SE\, Atlanta\, GA\, 30339\, United States
CATEGORIES:Play
ATTACH;FMTTYPE=image/png:https://batteryatl.com/wp-content/uploads/2026/02/I-need-a-square-2026-02-17T110728.680.png
ORGANIZER;CN="Live! at The Battery Atlanta":MAILTO:info@liveatthebatteryatlanta.com
GEO:33.8895474;-84.4693563
X-APPLE-STRUCTURED-LOCATION;VALUE=URI;X-ADDRESS=Live! at The Battery Atlanta 825 Battery Ave SE Atlanta GA 30339 United States;X-APPLE-RADIUS=500;X-TITLE=825 Battery Ave SE:geo:-84.4693563,33.8895474
END:VEVENT
BEGIN:VEVENT
DTSTART;TZID=America/New_York:20260320T170000
DTEND;TZID=America/New_York:20260320T230000
DTSTAMP:20260419T201032
CREATED:20260206T161353Z
LAST-MODIFIED:20260206T161353Z
UID:10004997-1774026000-1774047600@batteryatl.com
SUMMARY:NFC Fight Night at Live! at The Battery Atlanta
DESCRIPTION:The Fights are BACK! With a live NFC Fight Night Cage\, 40+ televisions and a 32 foot LED screen\, you won’t miss a minute of the action! \nJoin Live! at The Battery Atlanta for an action-packed evening of live professional and amateur MMA\, Muay Thai\, Kickboxing\, and Bare Knuckle Fighting!!! \nDoors open at 5 pm / Fights begin at 6 pm This is an all ages venue (only 21+ allowed upstairs) \nAttendees will enjoy: 12+ Fights in the NFC cage! One of the most exciting\, intense environments for watching live fights in the cage along with several bars with all your favorite drinks\, and a full food menu available at Sports & Social during the fights. After party next door at PBR! \nClick here for more information!
URL:https://batteryatl.com/event/nfc-fight-night-at-live-at-the-battery-atlanta/
LOCATION:Live! at The Battery Atlanta\, 825 Battery Ave SE\, Atlanta\, GA\, 30339\, United States
CATEGORIES:Dine
ATTACH;FMTTYPE=image/png:https://batteryatl.com/wp-content/uploads/2025/02/Live-fight.png
ORGANIZER;CN="Live! at The Battery Atlanta":MAILTO:info@liveatthebatteryatlanta.com
GEO:33.8895474;-84.4693563
X-APPLE-STRUCTURED-LOCATION;VALUE=URI;X-ADDRESS=Live! at The Battery Atlanta 825 Battery Ave SE Atlanta GA 30339 United States;X-APPLE-RADIUS=500;X-TITLE=825 Battery Ave SE:geo:-84.4693563,33.8895474
END:VEVENT
END:VCALENDAR