BEGIN:VCALENDAR
VERSION:2.0
PRODID:-//BatteryATL - ECPv6.15.17.1//NONSGML v1.0//EN
CALSCALE:GREGORIAN
METHOD:PUBLISH
X-ORIGINAL-URL:https://batteryatl.com
X-WR-CALDESC:Events for BatteryATL
REFRESH-INTERVAL;VALUE=DURATION:PT1H
X-Robots-Tag:noindex
X-PUBLISHED-TTL:PT1H
BEGIN:VTIMEZONE
TZID:America/New_York
BEGIN:DAYLIGHT
TZOFFSETFROM:-0500
TZOFFSETTO:-0400
TZNAME:EDT
DTSTART:20250309T070000
END:DAYLIGHT
BEGIN:STANDARD
TZOFFSETFROM:-0400
TZOFFSETTO:-0500
TZNAME:EST
DTSTART:20251102T060000
END:STANDARD
BEGIN:DAYLIGHT
TZOFFSETFROM:-0500
TZOFFSETTO:-0400
TZNAME:EDT
DTSTART:20260308T070000
END:DAYLIGHT
BEGIN:STANDARD
TZOFFSETFROM:-0400
TZOFFSETTO:-0500
TZNAME:EST
DTSTART:20261101T060000
END:STANDARD
BEGIN:DAYLIGHT
TZOFFSETFROM:-0500
TZOFFSETTO:-0400
TZNAME:EDT
DTSTART:20270314T070000
END:DAYLIGHT
BEGIN:STANDARD
TZOFFSETFROM:-0400
TZOFFSETTO:-0500
TZNAME:EST
DTSTART:20271107T060000
END:STANDARD
END:VTIMEZONE
BEGIN:VEVENT
DTSTART;TZID=America/New_York:20260328T200000
DTEND;TZID=America/New_York:20260328T233000
DTSTAMP:20260421T110607
CREATED:20251021T142257Z
LAST-MODIFIED:20251021T142257Z
UID:10004481-1774728000-1774740600@batteryatl.com
SUMMARY:Puscifer at Coca-Cola Roxy
DESCRIPTION:Puscifer is coming to Coca-Cola Roxy on Saturday\, March 28th! \n Get your tickets Here! \n  Make sure to check the Roxy’s Know Before You Go page before visiting for the latest venue info\, policy\, and protocol. \n Please be advised that road closures will go into effect prior to large events. \n Event day parking information can be found Here.
URL:https://batteryatl.com/event/puscifer-at-coca-cola-roxy/
LOCATION:The Coca Cola Roxy\, 800 Battery Avenue Southeast #500\, Atlanta\, GA\, 30339\, United States
CATEGORIES:Concert
ATTACH;FMTTYPE=image/jpeg:https://batteryatl.com/wp-content/uploads/2025/10/G3yhXlDXMAAlwB5.jpg
ORGANIZER;CN="Coca-Cola Roxy":MAILTO:cocacolaroxyinfo@livenation.com
GEO:33.8902516;-84.469726
X-APPLE-STRUCTURED-LOCATION;VALUE=URI;X-ADDRESS=The Coca Cola Roxy 800 Battery Avenue Southeast #500 Atlanta GA 30339 United States;X-APPLE-RADIUS=500;X-TITLE=800 Battery Avenue Southeast #500:geo:-84.469726,33.8902516
END:VEVENT
BEGIN:VEVENT
DTSTART;TZID=America/New_York:20260328T213000
DTEND;TZID=America/New_York:20260328T233000
DTSTAMP:20260421T110607
CREATED:20260302T150343Z
LAST-MODIFIED:20260302T150343Z
UID:10005062-1774733400-1774740600@batteryatl.com
SUMMARY:Dueling Pianos at Park Bench
DESCRIPTION:Join all the fun of the Park Bench rockin’ Dueling Pianos experience!  Groups\, celebrations\, parties\, and other occasions are welcomed and encouraged! \nAdmission to this entertaining show is No-Cover\, so come anytime throughout the night. \nGeneral seating is on a first-come basis and often sold out\, so reserve a table(s) to guarantee your seating! \nClick here for more information!
URL:https://batteryatl.com/event/dueling-pianos-after-game-at-park-bench/
LOCATION:Park Bench\, 900 Battery Ave\, Ste 1060\, Atlanta\, GA\, 30339
CATEGORIES:Dine
ATTACH;FMTTYPE=image/jpeg:https://batteryatl.com/wp-content/uploads/2026/03/dueling-pianos-after-braves.jpg
ORGANIZER;CN="Park Bench":MAILTO:music@parkbenchbattery.com
GEO:33.888495;-84.4705486
X-APPLE-STRUCTURED-LOCATION;VALUE=URI;X-ADDRESS=Park Bench 900 Battery Ave Ste 1060 Atlanta GA 30339;X-APPLE-RADIUS=500;X-TITLE=900 Battery Ave\, Ste 1060:geo:-84.4705486,33.888495
END:VEVENT
END:VCALENDAR