BEGIN:VCALENDAR
VERSION:2.0
PRODID:-//BatteryATL - ECPv6.15.17.1//NONSGML v1.0//EN
CALSCALE:GREGORIAN
METHOD:PUBLISH
X-WR-CALNAME:BatteryATL
X-ORIGINAL-URL:https://batteryatl.com
X-WR-CALDESC:Events for BatteryATL
REFRESH-INTERVAL;VALUE=DURATION:PT1H
X-Robots-Tag:noindex
X-PUBLISHED-TTL:PT1H
BEGIN:VTIMEZONE
TZID:America/New_York
BEGIN:DAYLIGHT
TZOFFSETFROM:-0500
TZOFFSETTO:-0400
TZNAME:EDT
DTSTART:20250309T070000
END:DAYLIGHT
BEGIN:STANDARD
TZOFFSETFROM:-0400
TZOFFSETTO:-0500
TZNAME:EST
DTSTART:20251102T060000
END:STANDARD
BEGIN:DAYLIGHT
TZOFFSETFROM:-0500
TZOFFSETTO:-0400
TZNAME:EDT
DTSTART:20260308T070000
END:DAYLIGHT
BEGIN:STANDARD
TZOFFSETFROM:-0400
TZOFFSETTO:-0500
TZNAME:EST
DTSTART:20261101T060000
END:STANDARD
BEGIN:DAYLIGHT
TZOFFSETFROM:-0500
TZOFFSETTO:-0400
TZNAME:EDT
DTSTART:20270314T070000
END:DAYLIGHT
BEGIN:STANDARD
TZOFFSETFROM:-0400
TZOFFSETTO:-0500
TZNAME:EST
DTSTART:20271107T060000
END:STANDARD
END:VTIMEZONE
BEGIN:VEVENT
DTSTART;TZID=America/New_York:20260320T190000
DTEND;TZID=America/New_York:20260320T210000
DTSTAMP:20260420T025841
CREATED:20260302T212602Z
LAST-MODIFIED:20260306T163511Z
UID:10005073-1774033200-1774040400@batteryatl.com
SUMMARY:Warm-up Weekend at The Battery Atlanta
DESCRIPTION:Shake off the school-year slump and jump into Spring Break at The Battery Atlanta with our Warm-Up Weekend! We’re turning up the fun with a family-friendly Movie Night at 7PM\, showing Field of Dreams\, on the Plaza Green\, where the lawn becomes your front-row seat under the stars. Grab your blankets\, round up the crew\, and get ready for a feel-good night filled with big-screen moments\, fresh air\, and unbeatable vibes. Be sure to come back on Saturday for our Spring Fling Festival! \nSpring break starts here — and this is your official kickoff. 🎬✨ \nSpring Fling Festival Details
URL:https://batteryatl.com/event/warm-up-weekend-at-the-battery-atlanta/
LOCATION:The Plaza at Battery Atlanta\, 755 Battery Avenue Southeast\, Atlanta\, GA\, 30339\, United States
ATTACH;FMTTYPE=image/png:https://batteryatl.com/wp-content/uploads/2026/03/1.png
GEO:33.889928;-84.4686388
X-APPLE-STRUCTURED-LOCATION;VALUE=URI;X-ADDRESS=The Plaza at Battery Atlanta 755 Battery Avenue Southeast Atlanta GA 30339 United States;X-APPLE-RADIUS=500;X-TITLE=755 Battery Avenue Southeast:geo:-84.4686388,33.889928
END:VEVENT
BEGIN:VEVENT
DTSTART;TZID=America/New_York:20260321T130000
DTEND;TZID=America/New_York:20260321T160000
DTSTAMP:20260420T025841
CREATED:20260302T212957Z
LAST-MODIFIED:20260316T143235Z
UID:10005074-1774098000-1774108800@batteryatl.com
SUMMARY:Spring Fling Festival at The Battery Atlanta
DESCRIPTION:Bring the whole family out for an exciting Saturday afternoon! Enjoy FREE kids crafts and a hands-on Touch-a-Truck experience that little ones will love\, featuring a cop car\, fire truck\, excavator\, and more! \nGrab some tasty baseball bites from the Braves Food Truck\, and catch live entertainment rehearsals with the Tomahawk Team and the Heavy Hitters happening right in the Plaza. \nIt’s the perfect way to spend a Saturday afternoon with family\, food\, and Braves fun! \nDon’t miss Movie Night on Friday\, March 20th at 7pm! \nMovie Night at The Battery Atlanta
URL:https://batteryatl.com/event/spring-fling-festival-at-the-battery-atlanta/
LOCATION:The Plaza at Battery Atlanta\, 755 Battery Avenue Southeast\, Atlanta\, GA\, 30339\, United States
ATTACH;FMTTYPE=image/png:https://batteryatl.com/wp-content/uploads/2026/03/2.png
GEO:33.889928;-84.4686388
X-APPLE-STRUCTURED-LOCATION;VALUE=URI;X-ADDRESS=The Plaza at Battery Atlanta 755 Battery Avenue Southeast Atlanta GA 30339 United States;X-APPLE-RADIUS=500;X-TITLE=755 Battery Avenue Southeast:geo:-84.4686388,33.889928
END:VEVENT
END:VCALENDAR