BEGIN:VCALENDAR
VERSION:2.0
PRODID:-//BatteryATL - ECPv6.15.17.1//NONSGML v1.0//EN
CALSCALE:GREGORIAN
METHOD:PUBLISH
X-ORIGINAL-URL:https://batteryatl.com
X-WR-CALDESC:Events for BatteryATL
REFRESH-INTERVAL;VALUE=DURATION:PT1H
X-Robots-Tag:noindex
X-PUBLISHED-TTL:PT1H
BEGIN:VTIMEZONE
TZID:America/New_York
BEGIN:DAYLIGHT
TZOFFSETFROM:-0500
TZOFFSETTO:-0400
TZNAME:EDT
DTSTART:20250309T070000
END:DAYLIGHT
BEGIN:STANDARD
TZOFFSETFROM:-0400
TZOFFSETTO:-0500
TZNAME:EST
DTSTART:20251102T060000
END:STANDARD
BEGIN:DAYLIGHT
TZOFFSETFROM:-0500
TZOFFSETTO:-0400
TZNAME:EDT
DTSTART:20260308T070000
END:DAYLIGHT
BEGIN:STANDARD
TZOFFSETFROM:-0400
TZOFFSETTO:-0500
TZNAME:EST
DTSTART:20261101T060000
END:STANDARD
BEGIN:DAYLIGHT
TZOFFSETFROM:-0500
TZOFFSETTO:-0400
TZNAME:EDT
DTSTART:20270314T070000
END:DAYLIGHT
BEGIN:STANDARD
TZOFFSETFROM:-0400
TZOFFSETTO:-0500
TZNAME:EST
DTSTART:20271107T060000
END:STANDARD
BEGIN:DAYLIGHT
TZOFFSETFROM:-0500
TZOFFSETTO:-0400
TZNAME:EDT
DTSTART:20280312T070000
END:DAYLIGHT
BEGIN:STANDARD
TZOFFSETFROM:-0400
TZOFFSETTO:-0500
TZNAME:EST
DTSTART:20281105T060000
END:STANDARD
END:VTIMEZONE
BEGIN:VEVENT
DTSTART;TZID=America/New_York:20260506T180000
DTEND;TZID=America/New_York:20260506T200000
DTSTAMP:20260419T192248
CREATED:20260220T144159Z
LAST-MODIFIED:20260220T144159Z
UID:10005044-1778090400-1778097600@batteryatl.com
SUMMARY:Intro To Fishing: How To Spool at SITKA Gear
DESCRIPTION:Have you ever wanted to learn how to fish but didn’t know where to start? Well\, look no further. Bring in your rod and reel as SITKA gives you step by step instructions. All ages welcomed. \nClick here for more information!
URL:https://batteryatl.com/event/intro-to-fishing-how-to-spool-at-sitka-gear/
LOCATION:Sitka\, 455 Legends Place Ste. 850\, Atlanta\, Georgia\, 30339
CATEGORIES:Shop
ATTACH;FMTTYPE=image/png:https://batteryatl.com/wp-content/uploads/2026/02/I-need-a-square-2026-02-20T093915.574.png
END:VEVENT
BEGIN:VEVENT
DTSTART;TZID=America/New_York:20261128T170000
DTEND;TZID=America/New_York:20261128T200000
DTSTAMP:20260419T192248
CREATED:20260127T211004Z
LAST-MODIFIED:20260209T172913Z
UID:10004855-1795885200-1795896000@batteryatl.com
SUMMARY:Tree Lighting Presented by Wellstar
DESCRIPTION:The annual Tree Lighting celebration will be returning to The Battery Atlanta soon! Join us for a festive evening filled with live entertainment on the Georgia Power Pavilion\, special guest appearances from A-Town A-List & more\, and a little holiday magic as we welcome Santa to help light the tree. \nAfter the tree is lit\, families are invited to settle in on the green and enjoy a cozy outdoor movie as part of our movie series on the plaza screen. Come celebrate with us and make it a night to remember—check back soon for full details and what to expect.
URL:https://batteryatl.com/event/tree-lighting-presented-by-wellstar/
LOCATION:The Battery Atlanta\, 800 Battery Avenue Southeast\, Atlanta\, GA\, 30339\, United States
CATEGORIES:Holiday Event
ATTACH;FMTTYPE=image/png:https://batteryatl.com/wp-content/uploads/2025/08/I-need-a-square-1.png
ORGANIZER;CN="The Battery Atlanta":MAILTO:BatteryInfo@Braves.com
GEO:33.8907095;-84.469508
X-APPLE-STRUCTURED-LOCATION;VALUE=URI;X-ADDRESS=The Battery Atlanta 800 Battery Avenue Southeast Atlanta GA 30339 United States;X-APPLE-RADIUS=500;X-TITLE=800 Battery Avenue Southeast:geo:-84.469508,33.8907095
END:VEVENT
BEGIN:VEVENT
DTSTART;TZID=America/New_York:20261231T180000
DTEND;TZID=America/New_York:20270101T000000
DTSTAMP:20260419T192248
CREATED:20260127T210045Z
LAST-MODIFIED:20260212T181636Z
UID:10004854-1798740000-1798761600@batteryatl.com
SUMMARY:New Year's Eve Bash at The Battery Atlanta Presented by Xfinity
DESCRIPTION:The Battery Atlanta will be celebrating 2027 with its New Year’s Eve Bash Presented by Xfinity\, featuring two exciting events: a family-friendly early countdown and a late-night celebration to ring in the new year! This event is FREE and open to the public. \nEarly Innings (6 p.m. – 8 p.m.): \n\nFamily-friendly fun with an exciting performance by a special guest.\nNew Year’s Countdown\n\nLate Innings (9 p.m. – Midnight): \n\nLive entertainment by special guest 12 South Band.\nMidnight countdown with pyrotechnics\, confetti\, and aerial fireworks.
URL:https://batteryatl.com/event/new-years-eve-bash-at-the-battery-atlanta-presented-by-xfinity-2/
LOCATION:The Battery Atlanta\, 800 Battery Avenue Southeast\, Atlanta\, GA\, 30339\, United States
CATEGORIES:Holiday Event
ATTACH;FMTTYPE=image/webp:https://batteryatl.com/wp-content/uploads/2025/08/2022-NYE-Fireworks-square-scaled-640x0-c-default.webp
ORGANIZER;CN="The Battery Atlanta":MAILTO:BatteryInfo@Braves.com
GEO:33.8907095;-84.469508
X-APPLE-STRUCTURED-LOCATION;VALUE=URI;X-ADDRESS=The Battery Atlanta 800 Battery Avenue Southeast Atlanta GA 30339 United States;X-APPLE-RADIUS=500;X-TITLE=800 Battery Avenue Southeast:geo:-84.469508,33.8907095
END:VEVENT
END:VCALENDAR