BEGIN:VCALENDAR
VERSION:2.0
PRODID:-//BatteryATL - ECPv6.15.17.1//NONSGML v1.0//EN
CALSCALE:GREGORIAN
METHOD:PUBLISH
X-WR-CALNAME:BatteryATL
X-ORIGINAL-URL:https://batteryatl.com
X-WR-CALDESC:Events for BatteryATL
REFRESH-INTERVAL;VALUE=DURATION:PT1H
X-Robots-Tag:noindex
X-PUBLISHED-TTL:PT1H
BEGIN:VTIMEZONE
TZID:America/New_York
BEGIN:DAYLIGHT
TZOFFSETFROM:-0500
TZOFFSETTO:-0400
TZNAME:EDT
DTSTART:20250309T070000
END:DAYLIGHT
BEGIN:STANDARD
TZOFFSETFROM:-0400
TZOFFSETTO:-0500
TZNAME:EST
DTSTART:20251102T060000
END:STANDARD
BEGIN:DAYLIGHT
TZOFFSETFROM:-0500
TZOFFSETTO:-0400
TZNAME:EDT
DTSTART:20260308T070000
END:DAYLIGHT
BEGIN:STANDARD
TZOFFSETFROM:-0400
TZOFFSETTO:-0500
TZNAME:EST
DTSTART:20261101T060000
END:STANDARD
BEGIN:DAYLIGHT
TZOFFSETFROM:-0500
TZOFFSETTO:-0400
TZNAME:EDT
DTSTART:20270314T070000
END:DAYLIGHT
BEGIN:STANDARD
TZOFFSETFROM:-0400
TZOFFSETTO:-0500
TZNAME:EST
DTSTART:20271107T060000
END:STANDARD
END:VTIMEZONE
BEGIN:VEVENT
DTSTART;TZID=America/New_York:20260429T180000
DTEND;TZID=America/New_York:20260429T190000
DTSTAMP:20260421T170507
CREATED:20260420T210121Z
LAST-MODIFIED:20260420T210121Z
UID:10005186-1777485600-1777489200@batteryatl.com
SUMMARY:Rosé Soirée at CRÚ Wine Bar & Bistro
DESCRIPTION:Join CRÚ Wine Bar & Bistro for an elevated tasting experience featuring three curated rosés: \n\nRosé Gold from Provence\nMarqués de Cáceres from Rioja\nMaddalena from Paso Robles\n\nEach thoughtfully paired with chef-crafted bites: \n\nProsciutto Wrapped Asparagus with Balsamic Glaze\nTempura Red Argentine Shrimp with Calabrian Chile Aioli\nBose Pear & Honey Compote with Goat Cheese and Pistachio\n\nClick here for more information!
URL:https://batteryatl.com/event/rose-soiree-at-cru-wine-bar-bistro/
LOCATION:Cru Wine Bar and Bistro\, 915 Battery Avenue SE\, Atlanta\, GA\, 30339\, United States
CATEGORIES:Dine
ATTACH;FMTTYPE=image/png:https://batteryatl.com/wp-content/uploads/2026/04/I-need-a-square-2026-04-20T165958.718.png
GEO:33.8886019;-84.4700737
X-APPLE-STRUCTURED-LOCATION;VALUE=URI;X-ADDRESS=Cru Wine Bar and Bistro 915 Battery Avenue SE Atlanta GA 30339 United States;X-APPLE-RADIUS=500;X-TITLE=915 Battery Avenue SE:geo:-84.4700737,33.8886019
END:VEVENT
END:VCALENDAR