BEGIN:VCALENDAR
VERSION:2.0
PRODID:-//BatteryATL - ECPv6.15.17.1//NONSGML v1.0//EN
CALSCALE:GREGORIAN
METHOD:PUBLISH
X-ORIGINAL-URL:https://batteryatl.com
X-WR-CALDESC:Events for BatteryATL
REFRESH-INTERVAL;VALUE=DURATION:PT1H
X-Robots-Tag:noindex
X-PUBLISHED-TTL:PT1H
BEGIN:VTIMEZONE
TZID:America/New_York
BEGIN:DAYLIGHT
TZOFFSETFROM:-0500
TZOFFSETTO:-0400
TZNAME:EDT
DTSTART:20250309T070000
END:DAYLIGHT
BEGIN:STANDARD
TZOFFSETFROM:-0400
TZOFFSETTO:-0500
TZNAME:EST
DTSTART:20251102T060000
END:STANDARD
BEGIN:DAYLIGHT
TZOFFSETFROM:-0500
TZOFFSETTO:-0400
TZNAME:EDT
DTSTART:20260308T070000
END:DAYLIGHT
BEGIN:STANDARD
TZOFFSETFROM:-0400
TZOFFSETTO:-0500
TZNAME:EST
DTSTART:20261101T060000
END:STANDARD
BEGIN:DAYLIGHT
TZOFFSETFROM:-0500
TZOFFSETTO:-0400
TZNAME:EDT
DTSTART:20270314T070000
END:DAYLIGHT
BEGIN:STANDARD
TZOFFSETFROM:-0400
TZOFFSETTO:-0500
TZNAME:EST
DTSTART:20271107T060000
END:STANDARD
END:VTIMEZONE
BEGIN:VEVENT
DTSTART;TZID=America/New_York:20260321T193000
DTEND;TZID=America/New_York:20260321T233000
DTSTAMP:20260421T181217
CREATED:20260302T145833Z
LAST-MODIFIED:20260302T145833Z
UID:10005061-1774121400-1774135800@batteryatl.com
SUMMARY:Dueling Pianos at Park Bench
DESCRIPTION:Join all the fun of the Park Bench rockin’ Dueling Pianos experience!  Groups\, celebrations\, parties\, and other occasions are welcomed and encouraged! \nAdmission to this entertaining show is No-Cover\, so come anytime throughout the night. \nGeneral seating is on a first-come basis and often sold out\, so reserve a table(s) to guarantee your seating! \nClick here for more information!
URL:https://batteryatl.com/event/dueling-pianos-at-park-bench-2/2026-03-21/
LOCATION:Park Bench\, 900 Battery Ave\, Ste 1060\, Atlanta\, GA\, 30339
CATEGORIES:Dine
ATTACH;FMTTYPE=image/jpeg:https://batteryatl.com/wp-content/uploads/2026/03/dueling-pianos-saturday-nite-reserv-a-table.jpg
ORGANIZER;CN="Park Bench":MAILTO:music@parkbenchbattery.com
GEO:33.888495;-84.4705486
X-APPLE-STRUCTURED-LOCATION;VALUE=URI;X-ADDRESS=Park Bench 900 Battery Ave Ste 1060 Atlanta GA 30339;X-APPLE-RADIUS=500;X-TITLE=900 Battery Ave\, Ste 1060:geo:-84.4705486,33.888495
END:VEVENT
BEGIN:VEVENT
DTSTART;TZID=America/New_York:20260321T210000
DTEND;TZID=America/New_York:20260321T233000
DTSTAMP:20260421T181217
CREATED:20260302T155326Z
LAST-MODIFIED:20260302T155326Z
UID:10005065-1774126800-1774135800@batteryatl.com
SUMMARY:Silent Disco at Punch Bowl Social
DESCRIPTION:Put your headphones on and let go of your inhibitions! \nPlug in\, tune out\, and dance! Join Punch Bowl Social as they kick off their monthly silent disco\, where you choose the vibe. \nWhat to expect: \n\nDJs will be spinning on different channels – choose your own audio adventure!\nGrab some headphones and choose between 3 stations to find your perfect jam.\nSpots and headphones are limited so grab your tickets early and bring your friends!\n\nGet ready to move and fuel your fun with their scratch kitchen menu and their amazing drink offerings! \nClick here for more information!
URL:https://batteryatl.com/event/silent-disco-at-punch-bowl-social/2026-03-21/
LOCATION:Punch Bowl Social\, 875 Battery Ave SE Ste 720\, Atlanta\, Georgia\, 30339\, United States
CATEGORIES:Dine
ATTACH;FMTTYPE=image/png:https://batteryatl.com/wp-content/uploads/2026/03/I-need-a-square-2026-03-02T105208.671.png
GEO:33.889048;-84.4698483
X-APPLE-STRUCTURED-LOCATION;VALUE=URI;X-ADDRESS=Punch Bowl Social 875 Battery Ave SE Ste 720 Atlanta Georgia 30339 United States;X-APPLE-RADIUS=500;X-TITLE=875 Battery Ave SE Ste 720:geo:-84.4698483,33.889048
END:VEVENT
BEGIN:VEVENT
DTSTART;TZID=America/New_York:20260322T140000
DTEND;TZID=America/New_York:20260322T153000
DTSTAMP:20260421T181217
CREATED:20260220T142955Z
LAST-MODIFIED:20260220T142955Z
UID:10005042-1774188000-1774193400@batteryatl.com
SUMMARY:Cocktail Class at ASW Distillery
DESCRIPTION:Join ASW Distillery for an interactive cocktail class hosted by one of their lead mixologists! \nEach guest will enjoy their own fully equipped bar station\, complete with tools and ingredients to actively build your own cocktails. Over the course of the class\, you’ll shake\, stir\, and savor three unique cocktails featuring their award-winning spirits – including whiskey\, vodka\, and gin – while learning the fundamentals of bartending and the art of balance in cocktail building! \nWant a little something to snack on while you shake things up? Add a pre-packaged personal charcuterie board at checkout (serves up to 2 people). \nYou are guaranteed to leave this class with the skills and knowledge to knock it out of the park every time you make a cocktail for your friends and family. \nSee you there! \nReserve your spot here!
URL:https://batteryatl.com/event/cocktail-class-at-asw-distillery-2/
LOCATION:ASW Distillery\, 900 Battery Ave SE Suite 1035\, Atlanta\, GA\, 30309\, United States
CATEGORIES:Dine
ATTACH;FMTTYPE=image/png:https://batteryatl.com/wp-content/uploads/2025/06/ASW-Cocktail-class.png
GEO:33.8891986;-84.4702992
X-APPLE-STRUCTURED-LOCATION;VALUE=URI;X-ADDRESS=ASW Distillery 900 Battery Ave SE Suite 1035 Atlanta GA 30309 United States;X-APPLE-RADIUS=500;X-TITLE=900 Battery Ave SE Suite 1035:geo:-84.4702992,33.8891986
END:VEVENT
END:VCALENDAR