BEGIN:VCALENDAR
VERSION:2.0
PRODID:-//BatteryATL - ECPv6.15.17.1//NONSGML v1.0//EN
CALSCALE:GREGORIAN
METHOD:PUBLISH
X-ORIGINAL-URL:https://batteryatl.com
X-WR-CALDESC:Events for BatteryATL
REFRESH-INTERVAL;VALUE=DURATION:PT1H
X-Robots-Tag:noindex
X-PUBLISHED-TTL:PT1H
BEGIN:VTIMEZONE
TZID:America/New_York
BEGIN:DAYLIGHT
TZOFFSETFROM:-0500
TZOFFSETTO:-0400
TZNAME:EDT
DTSTART:20250309T070000
END:DAYLIGHT
BEGIN:STANDARD
TZOFFSETFROM:-0400
TZOFFSETTO:-0500
TZNAME:EST
DTSTART:20251102T060000
END:STANDARD
BEGIN:DAYLIGHT
TZOFFSETFROM:-0500
TZOFFSETTO:-0400
TZNAME:EDT
DTSTART:20260308T070000
END:DAYLIGHT
BEGIN:STANDARD
TZOFFSETFROM:-0400
TZOFFSETTO:-0500
TZNAME:EST
DTSTART:20261101T060000
END:STANDARD
BEGIN:DAYLIGHT
TZOFFSETFROM:-0500
TZOFFSETTO:-0400
TZNAME:EDT
DTSTART:20270314T070000
END:DAYLIGHT
BEGIN:STANDARD
TZOFFSETFROM:-0400
TZOFFSETTO:-0500
TZNAME:EST
DTSTART:20271107T060000
END:STANDARD
END:VTIMEZONE
BEGIN:VEVENT
DTSTART;TZID=America/New_York:20260502T070000
DTEND;TZID=America/New_York:20260502T103000
DTSTAMP:20260420T005248
CREATED:20260320T141815Z
LAST-MODIFIED:20260320T141815Z
UID:10005004-1777705200-1777717800@batteryatl.com
SUMMARY:2026 Walk for Wishes 5K at The Battery Atlanta
DESCRIPTION:Walk for Wishes is a nationwide Make-A-Wish fundraiser that supports granting life-changing wishes for children with critical illnesses. It’s a family-friendly event powered by wish families\, volunteers\, companies\, donors\, and friends. By joining this caring community of people at one of the many walks across the U.S.\, you will help ensure that no child waits even one unnecessary day to experience the hope and joy that a wish brings! \n\nREGISTER: Sign up today and invite friends\, family\, and colleagues to join your team.\nFUNDRAISE: Tell people why you are supporting Make-A-Wish and ask for their support. Make it personal to make it powerful!\nWALK DAY: See the Make-A-Wish mission come to life and celebrate your fundraising success.\n\nRegister for your spot today!
URL:https://batteryatl.com/event/2026-walk-for-wishes-5k-at-the-battery-atlanta/
LOCATION:The Battery Atlanta\, 800 Battery Avenue Southeast\, Atlanta\, GA\, 30339\, United States
CATEGORIES:Play
ATTACH;FMTTYPE=image/png:https://batteryatl.com/wp-content/uploads/2026/02/I-need-a-square-2026-03-20T101626.536.png
ORGANIZER;CN="The Battery Atlanta":MAILTO:BatteryInfo@Braves.com
GEO:33.8907095;-84.469508
X-APPLE-STRUCTURED-LOCATION;VALUE=URI;X-ADDRESS=The Battery Atlanta 800 Battery Avenue Southeast Atlanta GA 30339 United States;X-APPLE-RADIUS=500;X-TITLE=800 Battery Avenue Southeast:geo:-84.469508,33.8907095
END:VEVENT
END:VCALENDAR