BEGIN:VCALENDAR
VERSION:2.0
PRODID:-//BatteryATL - ECPv6.15.17.1//NONSGML v1.0//EN
CALSCALE:GREGORIAN
METHOD:PUBLISH
X-WR-CALNAME:BatteryATL
X-ORIGINAL-URL:https://batteryatl.com
X-WR-CALDESC:Events for BatteryATL
REFRESH-INTERVAL;VALUE=DURATION:PT1H
X-Robots-Tag:noindex
X-PUBLISHED-TTL:PT1H
BEGIN:VTIMEZONE
TZID:America/New_York
BEGIN:DAYLIGHT
TZOFFSETFROM:-0500
TZOFFSETTO:-0400
TZNAME:EDT
DTSTART:20250309T070000
END:DAYLIGHT
BEGIN:STANDARD
TZOFFSETFROM:-0400
TZOFFSETTO:-0500
TZNAME:EST
DTSTART:20251102T060000
END:STANDARD
BEGIN:DAYLIGHT
TZOFFSETFROM:-0500
TZOFFSETTO:-0400
TZNAME:EDT
DTSTART:20260308T070000
END:DAYLIGHT
BEGIN:STANDARD
TZOFFSETFROM:-0400
TZOFFSETTO:-0500
TZNAME:EST
DTSTART:20261101T060000
END:STANDARD
BEGIN:DAYLIGHT
TZOFFSETFROM:-0500
TZOFFSETTO:-0400
TZNAME:EDT
DTSTART:20270314T070000
END:DAYLIGHT
BEGIN:STANDARD
TZOFFSETFROM:-0400
TZOFFSETTO:-0500
TZNAME:EST
DTSTART:20271107T060000
END:STANDARD
END:VTIMEZONE
BEGIN:VEVENT
DTSTART;TZID=America/New_York:20260516T083000
DTEND;TZID=America/New_York:20260516T113000
DTSTAMP:20260420T005102
CREATED:20260320T143952Z
LAST-MODIFIED:20260320T143952Z
UID:10005098-1778920200-1778931000@batteryatl.com
SUMMARY:Trot to Clot 5K Walk/Run at The Battery Atlanta
DESCRIPTION:This year\, funds raised for Trot to Clot are supporting Hemophilia of Georgia’s global impact program to help people with bleeding disorders in underserved communities worldwide. They know it takes more than medicine to improve lives – it takes education\, leadership\, and community. \nRegister for your spot here!
URL:https://batteryatl.com/event/trot-to-clot-5k-walk-run-at-the-battery-atlanta/
LOCATION:The Battery Atlanta\, 800 Battery Avenue Southeast\, Atlanta\, GA\, 30339\, United States
CATEGORIES:Play
ATTACH;FMTTYPE=image/png:https://batteryatl.com/wp-content/uploads/2025/03/Trot-to-Clot.png
ORGANIZER;CN="The Battery Atlanta":MAILTO:BatteryInfo@Braves.com
GEO:33.8907095;-84.469508
X-APPLE-STRUCTURED-LOCATION;VALUE=URI;X-ADDRESS=The Battery Atlanta 800 Battery Avenue Southeast Atlanta GA 30339 United States;X-APPLE-RADIUS=500;X-TITLE=800 Battery Avenue Southeast:geo:-84.469508,33.8907095
END:VEVENT
END:VCALENDAR