BEGIN:VCALENDAR
VERSION:2.0
PRODID:-//BatteryATL - ECPv6.15.17.1//NONSGML v1.0//EN
CALSCALE:GREGORIAN
METHOD:PUBLISH
X-WR-CALNAME:BatteryATL
X-ORIGINAL-URL:https://batteryatl.com
X-WR-CALDESC:Events for BatteryATL
REFRESH-INTERVAL;VALUE=DURATION:PT1H
X-Robots-Tag:noindex
X-PUBLISHED-TTL:PT1H
BEGIN:VTIMEZONE
TZID:America/New_York
BEGIN:DAYLIGHT
TZOFFSETFROM:-0500
TZOFFSETTO:-0400
TZNAME:EDT
DTSTART:20250309T070000
END:DAYLIGHT
BEGIN:STANDARD
TZOFFSETFROM:-0400
TZOFFSETTO:-0500
TZNAME:EST
DTSTART:20251102T060000
END:STANDARD
BEGIN:DAYLIGHT
TZOFFSETFROM:-0500
TZOFFSETTO:-0400
TZNAME:EDT
DTSTART:20260308T070000
END:DAYLIGHT
BEGIN:STANDARD
TZOFFSETFROM:-0400
TZOFFSETTO:-0500
TZNAME:EST
DTSTART:20261101T060000
END:STANDARD
BEGIN:DAYLIGHT
TZOFFSETFROM:-0500
TZOFFSETTO:-0400
TZNAME:EDT
DTSTART:20270314T070000
END:DAYLIGHT
BEGIN:STANDARD
TZOFFSETFROM:-0400
TZOFFSETTO:-0500
TZNAME:EST
DTSTART:20271107T060000
END:STANDARD
END:VTIMEZONE
BEGIN:VEVENT
DTSTART;TZID=America/New_York:20260328T160000
DTEND;TZID=America/New_York:20260328T200000
DTSTAMP:20260421T194402
CREATED:20260325T151931Z
LAST-MODIFIED:20260325T151931Z
UID:10005116-1774713600-1774728000@batteryatl.com
SUMMARY:Atlanta Braves Block Party
DESCRIPTION:Get ready to turn game day into an unforgettable experience! Braves Block Parties bring fans together before select home games for an electric mix of live entertainment and nonstop energy – just steps away from the ballpark. \nArrive early and come hang out before the game in The Battery Atlanta from 4:00pm to 8:00pm. See all of the fun below for the first block party on March 28th and stay tuned for future dates! \nAvailable Activities\nFor All Ages: \n\nOpening Week Chalk Mural – Watch art come to life in chalk on Battery Avenue\nPose at the Plate – Take a photo with friends\nMobile Braves Clubhouse Store – Grab the hottest new Braves items at the mobile store\nTailgate Alley – Grab some food and a drink to enjoy while playing classic tailgate games\n\nFor Kids: \n\nPlay Ball Alley – Take to the streets and swing for the fences on this mini pop-up field\nKids Batting Cage – Hit inside our inflatable batting cage\nKids Base Running Challenge – See how fast you can run to 1st base and how your time compares to Braves legends.\nKids Chalk – Create your own art on the streets of The Battery Atlanta\n\nLive Entertainment\nDon’t miss an extreme stunt show by FLIPPENOUT Trampoline Stunt Show before heading into the ballpark!\nTimes: 4:30 p.m.\, 5:30 p.m.\, 6:30 p.m. \nPlus: \n\nApperances by the Atlanta Braves Heavy Hitters\, Tomahawk Team\, & The Home Depot Tools\nLive Street Performers\nLive DJ\n\nClick here for more information!
URL:https://batteryatl.com/event/atlanta-braves-block-party/
LOCATION:The Battery Atlanta\, 800 Battery Avenue Southeast\, Atlanta\, GA\, 30339\, United States
CATEGORIES:Braves Game
ATTACH;FMTTYPE=image/png:https://batteryatl.com/wp-content/uploads/2026/03/I-need-a-square-2026-03-25T110930.914.png
GEO:33.8907095;-84.469508
X-APPLE-STRUCTURED-LOCATION;VALUE=URI;X-ADDRESS=The Battery Atlanta 800 Battery Avenue Southeast Atlanta GA 30339 United States;X-APPLE-RADIUS=500;X-TITLE=800 Battery Avenue Southeast:geo:-84.469508,33.8907095
END:VEVENT
BEGIN:VEVENT
DTSTART;TZID=America/New_York:20260328T191500
DTEND;TZID=America/New_York:20260328T221500
DTSTAMP:20260421T194402
CREATED:20260130T153842Z
LAST-MODIFIED:20260226T195030Z
UID:10004869-1774725300-1774736100@batteryatl.com
SUMMARY:Atlanta Braves vs Kansas City Royals
DESCRIPTION:Join us as the Atlanta Braves face off against the Kansas City Royals at Truist Park! \nDates & Times for this series are as follows* \nFriday\, March 27th: First Pitch – 7:15 pm (Atlanta Braves Rally Towel Giveaway) \nSaturday\, March 28th: First Pitch – 7:15 pm \nSunday\, March 29th: First Pitch – 1:35 pm (Kids Giveaway: Ronald Acuna Jr. Chenille Cap) \n* Date & Time subject to change \nPlease be advised that road closures will go into effect prior to large events. \nPurchase your single game tickets here!
URL:https://batteryatl.com/event/atlanta-braves-vs-kansas-city-royals/2026-03-28/
LOCATION:Truist Park\, 755 Battery Avenue Southeast\, Atlanta\, GA\, 30339\, United States
CATEGORIES:Braves Game
ATTACH;FMTTYPE=image/png:https://batteryatl.com/wp-content/uploads/2026/01/Braves-vs.-Royals.png
GEO:33.8897616;-84.468553
X-APPLE-STRUCTURED-LOCATION;VALUE=URI;X-ADDRESS=Truist Park 755 Battery Avenue Southeast Atlanta GA 30339 United States;X-APPLE-RADIUS=500;X-TITLE=755 Battery Avenue Southeast:geo:-84.468553,33.8897616
END:VEVENT
END:VCALENDAR