BEGIN:VCALENDAR
VERSION:2.0
PRODID:-//BatteryATL - ECPv6.15.17.1//NONSGML v1.0//EN
CALSCALE:GREGORIAN
METHOD:PUBLISH
X-ORIGINAL-URL:https://batteryatl.com
X-WR-CALDESC:Events for BatteryATL
REFRESH-INTERVAL;VALUE=DURATION:PT1H
X-Robots-Tag:noindex
X-PUBLISHED-TTL:PT1H
BEGIN:VTIMEZONE
TZID:America/New_York
BEGIN:DAYLIGHT
TZOFFSETFROM:-0500
TZOFFSETTO:-0400
TZNAME:EDT
DTSTART:20250309T070000
END:DAYLIGHT
BEGIN:STANDARD
TZOFFSETFROM:-0400
TZOFFSETTO:-0500
TZNAME:EST
DTSTART:20251102T060000
END:STANDARD
BEGIN:DAYLIGHT
TZOFFSETFROM:-0500
TZOFFSETTO:-0400
TZNAME:EDT
DTSTART:20260308T070000
END:DAYLIGHT
BEGIN:STANDARD
TZOFFSETFROM:-0400
TZOFFSETTO:-0500
TZNAME:EST
DTSTART:20261101T060000
END:STANDARD
BEGIN:DAYLIGHT
TZOFFSETFROM:-0500
TZOFFSETTO:-0400
TZNAME:EDT
DTSTART:20270314T070000
END:DAYLIGHT
BEGIN:STANDARD
TZOFFSETFROM:-0400
TZOFFSETTO:-0500
TZNAME:EST
DTSTART:20271107T060000
END:STANDARD
END:VTIMEZONE
BEGIN:VEVENT
DTSTART;TZID=America/New_York:20260801T191500
DTEND;TZID=America/New_York:20260801T221500
DTSTAMP:20260421T221938
CREATED:20260202T213339Z
LAST-MODIFIED:20260202T213617Z
UID:10004947-1785611700-1785622500@batteryatl.com
SUMMARY:Atlanta Braves vs Washington Nationals
DESCRIPTION:Join us as the Atlanta Braves face off against the Washington Nationals at Truist Park! \nDates & Times for this series are as follows* \nThursday\, July 30th: First Pitch – 7:15 pm \nFriday\, July 31st: First Pitch – 7:15 pm \nSaturday\, August 1st: First Pitch – 7:15 pm \nSunday\, August 2nd: First Pitch – 1:35 pm (Kids Giveaway: Colorful Novelty Drawstring Shorts) \n* Date & Time subject to change \nPlease be advised that road closures will go into effect prior to large events. \nPurchase your single game tickets here!
URL:https://batteryatl.com/event/atlanta-braves-vs-washington-nationals-2/2026-08-01/
LOCATION:Truist Park\, 755 Battery Avenue Southeast\, Atlanta\, GA\, 30339\, United States
CATEGORIES:Braves Game
ATTACH;FMTTYPE=image/png:https://batteryatl.com/wp-content/uploads/2026/02/Braves-vs.-Nationals.png
GEO:33.8897616;-84.468553
X-APPLE-STRUCTURED-LOCATION;VALUE=URI;X-ADDRESS=Truist Park 755 Battery Avenue Southeast Atlanta GA 30339 United States;X-APPLE-RADIUS=500;X-TITLE=755 Battery Avenue Southeast:geo:-84.468553,33.8897616
END:VEVENT
BEGIN:VEVENT
DTSTART;TZID=America/New_York:20260802T133500
DTEND;TZID=America/New_York:20260802T163500
DTSTAMP:20260421T221938
CREATED:20260202T213339Z
LAST-MODIFIED:20260202T213617Z
UID:10004948-1785677700-1785688500@batteryatl.com
SUMMARY:Atlanta Braves vs Washington Nationals
DESCRIPTION:Join us as the Atlanta Braves face off against the Washington Nationals at Truist Park! \nDates & Times for this series are as follows* \nThursday\, July 30th: First Pitch – 7:15 pm \nFriday\, July 31st: First Pitch – 7:15 pm \nSaturday\, August 1st: First Pitch – 7:15 pm \nSunday\, August 2nd: First Pitch – 1:35 pm (Kids Giveaway: Colorful Novelty Drawstring Shorts) \n* Date & Time subject to change \nPlease be advised that road closures will go into effect prior to large events. \nPurchase your single game tickets here!
URL:https://batteryatl.com/event/atlanta-braves-vs-washington-nationals-2/2026-08-02/
LOCATION:Truist Park\, 755 Battery Avenue Southeast\, Atlanta\, GA\, 30339\, United States
CATEGORIES:Braves Game
ATTACH;FMTTYPE=image/png:https://batteryatl.com/wp-content/uploads/2026/02/Braves-vs.-Nationals.png
GEO:33.8897616;-84.468553
X-APPLE-STRUCTURED-LOCATION;VALUE=URI;X-ADDRESS=Truist Park 755 Battery Avenue Southeast Atlanta GA 30339 United States;X-APPLE-RADIUS=500;X-TITLE=755 Battery Avenue Southeast:geo:-84.468553,33.8897616
END:VEVENT
BEGIN:VEVENT
DTSTART;TZID=America/New_York:20260804T191500
DTEND;TZID=America/New_York:20260804T221500
DTSTAMP:20260421T221938
CREATED:20260202T214054Z
LAST-MODIFIED:20260202T214054Z
UID:10004949-1785870900-1785881700@batteryatl.com
SUMMARY:Atlanta Braves vs Miami Marlins
DESCRIPTION:Join us as the Atlanta Braves face off against the Miami Marlins at Truist Park! \nDates & Times for this series are as follows* \nTuesday\, August 4th: First Pitch – 7:15 pm \nWednesday\, August 5th: First Pitch – 7:15 pm \nThursday\, August 6th: First Pitch – 7:15 pm \n* Date & Time subject to change \nPlease be advised that road closures will go into effect prior to large events. \nPurchase your single game tickets here!
URL:https://batteryatl.com/event/atlanta-braves-vs-miami-marlins-2/2026-08-04/
LOCATION:Truist Park\, 755 Battery Avenue Southeast\, Atlanta\, GA\, 30339\, United States
CATEGORIES:Braves Game
ATTACH;FMTTYPE=image/png:https://batteryatl.com/wp-content/uploads/2026/01/Braves-vs.-Marlins.png
GEO:33.8897616;-84.468553
X-APPLE-STRUCTURED-LOCATION;VALUE=URI;X-ADDRESS=Truist Park 755 Battery Avenue Southeast Atlanta GA 30339 United States;X-APPLE-RADIUS=500;X-TITLE=755 Battery Avenue Southeast:geo:-84.468553,33.8897616
END:VEVENT
BEGIN:VEVENT
DTSTART;TZID=America/New_York:20260805T191500
DTEND;TZID=America/New_York:20260805T221500
DTSTAMP:20260421T221938
CREATED:20260202T214054Z
LAST-MODIFIED:20260202T214054Z
UID:10004950-1785957300-1785968100@batteryatl.com
SUMMARY:Atlanta Braves vs Miami Marlins
DESCRIPTION:Join us as the Atlanta Braves face off against the Miami Marlins at Truist Park! \nDates & Times for this series are as follows* \nTuesday\, August 4th: First Pitch – 7:15 pm \nWednesday\, August 5th: First Pitch – 7:15 pm \nThursday\, August 6th: First Pitch – 7:15 pm \n* Date & Time subject to change \nPlease be advised that road closures will go into effect prior to large events. \nPurchase your single game tickets here!
URL:https://batteryatl.com/event/atlanta-braves-vs-miami-marlins-2/2026-08-05/
LOCATION:Truist Park\, 755 Battery Avenue Southeast\, Atlanta\, GA\, 30339\, United States
CATEGORIES:Braves Game
ATTACH;FMTTYPE=image/png:https://batteryatl.com/wp-content/uploads/2026/01/Braves-vs.-Marlins.png
GEO:33.8897616;-84.468553
X-APPLE-STRUCTURED-LOCATION;VALUE=URI;X-ADDRESS=Truist Park 755 Battery Avenue Southeast Atlanta GA 30339 United States;X-APPLE-RADIUS=500;X-TITLE=755 Battery Avenue Southeast:geo:-84.468553,33.8897616
END:VEVENT
BEGIN:VEVENT
DTSTART;TZID=America/New_York:20260806T191500
DTEND;TZID=America/New_York:20260806T221500
DTSTAMP:20260421T221938
CREATED:20260202T214054Z
LAST-MODIFIED:20260202T214054Z
UID:10004951-1786043700-1786054500@batteryatl.com
SUMMARY:Atlanta Braves vs Miami Marlins
DESCRIPTION:Join us as the Atlanta Braves face off against the Miami Marlins at Truist Park! \nDates & Times for this series are as follows* \nTuesday\, August 4th: First Pitch – 7:15 pm \nWednesday\, August 5th: First Pitch – 7:15 pm \nThursday\, August 6th: First Pitch – 7:15 pm \n* Date & Time subject to change \nPlease be advised that road closures will go into effect prior to large events. \nPurchase your single game tickets here!
URL:https://batteryatl.com/event/atlanta-braves-vs-miami-marlins-2/2026-08-06/
LOCATION:Truist Park\, 755 Battery Avenue Southeast\, Atlanta\, GA\, 30339\, United States
CATEGORIES:Braves Game
ATTACH;FMTTYPE=image/png:https://batteryatl.com/wp-content/uploads/2026/01/Braves-vs.-Marlins.png
GEO:33.8897616;-84.468553
X-APPLE-STRUCTURED-LOCATION;VALUE=URI;X-ADDRESS=Truist Park 755 Battery Avenue Southeast Atlanta GA 30339 United States;X-APPLE-RADIUS=500;X-TITLE=755 Battery Avenue Southeast:geo:-84.468553,33.8897616
END:VEVENT
BEGIN:VEVENT
DTSTART;TZID=America/New_York:20260810T191500
DTEND;TZID=America/New_York:20260810T221500
DTSTAMP:20260421T221938
CREATED:20260202T175632Z
LAST-MODIFIED:20260202T215034Z
UID:10004886-1786389300-1786400100@batteryatl.com
SUMMARY:Atlanta Braves vs New York Mets
DESCRIPTION:Join us as the Atlanta Braves face off against the New York Mets at Truist Park! \nDates & Times for this series are as follows* \nMonday\, August 10th: First Pitch – 7:15 pm (Michael Harris II Football Jersey Giveaway) \nTuesday\, August 11th: First Pitch – 7:15 pm (Spencer Strider Vol. 3 Vinyl Record Giveaway) \nWednesday\, August 12th: First Pitch – 7:15 pm (Javy Lopez Bobblehead Giveaway) \n* Date & Time subject to change \nPlease be advised that road closures will go into effect prior to large events. \nPurchase your single game tickets here!
URL:https://batteryatl.com/event/atlanta-braves-vs-new-york-mets/2026-08-10/
LOCATION:Truist Park\, 755 Battery Avenue Southeast\, Atlanta\, GA\, 30339\, United States
CATEGORIES:Braves Game
ATTACH;FMTTYPE=image/png:https://batteryatl.com/wp-content/uploads/2026/02/Braves-vs.-Mets.png
GEO:33.8897616;-84.468553
X-APPLE-STRUCTURED-LOCATION;VALUE=URI;X-ADDRESS=Truist Park 755 Battery Avenue Southeast Atlanta GA 30339 United States;X-APPLE-RADIUS=500;X-TITLE=755 Battery Avenue Southeast:geo:-84.468553,33.8897616
END:VEVENT
BEGIN:VEVENT
DTSTART;TZID=America/New_York:20260811T191500
DTEND;TZID=America/New_York:20260811T221500
DTSTAMP:20260421T221938
CREATED:20260202T175632Z
LAST-MODIFIED:20260202T215034Z
UID:10004887-1786475700-1786486500@batteryatl.com
SUMMARY:Atlanta Braves vs New York Mets
DESCRIPTION:Join us as the Atlanta Braves face off against the New York Mets at Truist Park! \nDates & Times for this series are as follows* \nMonday\, August 10th: First Pitch – 7:15 pm (Michael Harris II Football Jersey Giveaway) \nTuesday\, August 11th: First Pitch – 7:15 pm (Spencer Strider Vol. 3 Vinyl Record Giveaway) \nWednesday\, August 12th: First Pitch – 7:15 pm (Javy Lopez Bobblehead Giveaway) \n* Date & Time subject to change \nPlease be advised that road closures will go into effect prior to large events. \nPurchase your single game tickets here!
URL:https://batteryatl.com/event/atlanta-braves-vs-new-york-mets/2026-08-11/
LOCATION:Truist Park\, 755 Battery Avenue Southeast\, Atlanta\, GA\, 30339\, United States
CATEGORIES:Braves Game
ATTACH;FMTTYPE=image/png:https://batteryatl.com/wp-content/uploads/2026/02/Braves-vs.-Mets.png
GEO:33.8897616;-84.468553
X-APPLE-STRUCTURED-LOCATION;VALUE=URI;X-ADDRESS=Truist Park 755 Battery Avenue Southeast Atlanta GA 30339 United States;X-APPLE-RADIUS=500;X-TITLE=755 Battery Avenue Southeast:geo:-84.468553,33.8897616
END:VEVENT
BEGIN:VEVENT
DTSTART;TZID=America/New_York:20260812T191500
DTEND;TZID=America/New_York:20260812T221500
DTSTAMP:20260421T221938
CREATED:20260202T175632Z
LAST-MODIFIED:20260202T215034Z
UID:10004888-1786562100-1786572900@batteryatl.com
SUMMARY:Atlanta Braves vs New York Mets
DESCRIPTION:Join us as the Atlanta Braves face off against the New York Mets at Truist Park! \nDates & Times for this series are as follows* \nMonday\, August 10th: First Pitch – 7:15 pm (Michael Harris II Football Jersey Giveaway) \nTuesday\, August 11th: First Pitch – 7:15 pm (Spencer Strider Vol. 3 Vinyl Record Giveaway) \nWednesday\, August 12th: First Pitch – 7:15 pm (Javy Lopez Bobblehead Giveaway) \n* Date & Time subject to change \nPlease be advised that road closures will go into effect prior to large events. \nPurchase your single game tickets here!
URL:https://batteryatl.com/event/atlanta-braves-vs-new-york-mets/2026-08-12/
LOCATION:Truist Park\, 755 Battery Avenue Southeast\, Atlanta\, GA\, 30339\, United States
CATEGORIES:Braves Game
ATTACH;FMTTYPE=image/png:https://batteryatl.com/wp-content/uploads/2026/02/Braves-vs.-Mets.png
GEO:33.8897616;-84.468553
X-APPLE-STRUCTURED-LOCATION;VALUE=URI;X-ADDRESS=Truist Park 755 Battery Avenue Southeast Atlanta GA 30339 United States;X-APPLE-RADIUS=500;X-TITLE=755 Battery Avenue Southeast:geo:-84.468553,33.8897616
END:VEVENT
BEGIN:VEVENT
DTSTART;TZID=America/New_York:20260814T191500
DTEND;TZID=America/New_York:20260814T221500
DTSTAMP:20260421T221938
CREATED:20260202T175949Z
LAST-MODIFIED:20260202T215219Z
UID:10004889-1786734900-1786745700@batteryatl.com
SUMMARY:Atlanta Braves vs Arizona Diamondbacks
DESCRIPTION:Join us as the Atlanta Braves face off against the Arizona Diamondbacks at Truist Park! \nDates & Times for this series are as follows* \nFriday\, August 14th: First Pitch – 7:15 pm (Andres Galarraga Bobblehead Giveaway) \nSaturday\, August 15th: First Pitch – 7:15 pm \nSunday\, August 16th: First Pitch – 1:35 pm (Kids Giveaway: Michael Harris II Football Jersey) \n* Date & Time subject to change \nPlease be advised that road closures will go into effect prior to large events. \nPurchase your single game tickets here!
URL:https://batteryatl.com/event/atlanta-braves-vs-arizona-diamondbacks/2026-08-14/
LOCATION:Truist Park\, 755 Battery Avenue Southeast\, Atlanta\, GA\, 30339\, United States
CATEGORIES:Braves Game
ATTACH;FMTTYPE=image/png:https://batteryatl.com/wp-content/uploads/2026/02/Braves-vs.-Diamondbacks.png
GEO:33.8897616;-84.468553
X-APPLE-STRUCTURED-LOCATION;VALUE=URI;X-ADDRESS=Truist Park 755 Battery Avenue Southeast Atlanta GA 30339 United States;X-APPLE-RADIUS=500;X-TITLE=755 Battery Avenue Southeast:geo:-84.468553,33.8897616
END:VEVENT
BEGIN:VEVENT
DTSTART;TZID=America/New_York:20260815T191500
DTEND;TZID=America/New_York:20260815T221500
DTSTAMP:20260421T221938
CREATED:20260202T175949Z
LAST-MODIFIED:20260202T215219Z
UID:10004890-1786821300-1786832100@batteryatl.com
SUMMARY:Atlanta Braves vs Arizona Diamondbacks
DESCRIPTION:Join us as the Atlanta Braves face off against the Arizona Diamondbacks at Truist Park! \nDates & Times for this series are as follows* \nFriday\, August 14th: First Pitch – 7:15 pm (Andres Galarraga Bobblehead Giveaway) \nSaturday\, August 15th: First Pitch – 7:15 pm \nSunday\, August 16th: First Pitch – 1:35 pm (Kids Giveaway: Michael Harris II Football Jersey) \n* Date & Time subject to change \nPlease be advised that road closures will go into effect prior to large events. \nPurchase your single game tickets here!
URL:https://batteryatl.com/event/atlanta-braves-vs-arizona-diamondbacks/2026-08-15/
LOCATION:Truist Park\, 755 Battery Avenue Southeast\, Atlanta\, GA\, 30339\, United States
CATEGORIES:Braves Game
ATTACH;FMTTYPE=image/png:https://batteryatl.com/wp-content/uploads/2026/02/Braves-vs.-Diamondbacks.png
GEO:33.8897616;-84.468553
X-APPLE-STRUCTURED-LOCATION;VALUE=URI;X-ADDRESS=Truist Park 755 Battery Avenue Southeast Atlanta GA 30339 United States;X-APPLE-RADIUS=500;X-TITLE=755 Battery Avenue Southeast:geo:-84.468553,33.8897616
END:VEVENT
BEGIN:VEVENT
DTSTART;TZID=America/New_York:20260816T191500
DTEND;TZID=America/New_York:20260816T221500
DTSTAMP:20260421T221938
CREATED:20260202T175949Z
LAST-MODIFIED:20260202T215219Z
UID:10004891-1786907700-1786918500@batteryatl.com
SUMMARY:Atlanta Braves vs Arizona Diamondbacks
DESCRIPTION:Join us as the Atlanta Braves face off against the Arizona Diamondbacks at Truist Park! \nDates & Times for this series are as follows* \nFriday\, August 14th: First Pitch – 7:15 pm (Andres Galarraga Bobblehead Giveaway) \nSaturday\, August 15th: First Pitch – 7:15 pm \nSunday\, August 16th: First Pitch – 1:35 pm (Kids Giveaway: Michael Harris II Football Jersey) \n* Date & Time subject to change \nPlease be advised that road closures will go into effect prior to large events. \nPurchase your single game tickets here!
URL:https://batteryatl.com/event/atlanta-braves-vs-arizona-diamondbacks/2026-08-16/
LOCATION:Truist Park\, 755 Battery Avenue Southeast\, Atlanta\, GA\, 30339\, United States
CATEGORIES:Braves Game
ATTACH;FMTTYPE=image/png:https://batteryatl.com/wp-content/uploads/2026/02/Braves-vs.-Diamondbacks.png
GEO:33.8897616;-84.468553
X-APPLE-STRUCTURED-LOCATION;VALUE=URI;X-ADDRESS=Truist Park 755 Battery Avenue Southeast Atlanta GA 30339 United States;X-APPLE-RADIUS=500;X-TITLE=755 Battery Avenue Southeast:geo:-84.468553,33.8897616
END:VEVENT
BEGIN:VEVENT
DTSTART;TZID=America/New_York:20260825T191500
DTEND;TZID=America/New_York:20260825T221500
DTSTAMP:20260421T221938
CREATED:20260202T180334Z
LAST-MODIFIED:20260202T180334Z
UID:10004892-1787685300-1787696100@batteryatl.com
SUMMARY:Atlanta Braves vs Los Angeles Dodgers
DESCRIPTION:Join us as the Atlanta Braves face off against the Los Angeles Dodgers at Truist Park! \nDates & Times for this series are as follows* \nTuesday\, August 25th: First Pitch – 7:15 pm \nWednesday\, August 26th: First Pitch – 7:15 pm \nThursday\, August 27th: First Pitch – 7:15 pm \n* Date & Time subject to change \nPlease be advised that road closures will go into effect prior to large events. \nPurchase your single game tickets here!
URL:https://batteryatl.com/event/atlanta-braves-vs-los-angeles-dodgers/2026-08-25/
LOCATION:Truist Park\, 755 Battery Avenue Southeast\, Atlanta\, GA\, 30339\, United States
CATEGORIES:Braves Game
ATTACH;FMTTYPE=image/png:https://batteryatl.com/wp-content/uploads/2026/02/Braves-vs.-Dodgers.png
GEO:33.8897616;-84.468553
X-APPLE-STRUCTURED-LOCATION;VALUE=URI;X-ADDRESS=Truist Park 755 Battery Avenue Southeast Atlanta GA 30339 United States;X-APPLE-RADIUS=500;X-TITLE=755 Battery Avenue Southeast:geo:-84.468553,33.8897616
END:VEVENT
BEGIN:VEVENT
DTSTART;TZID=America/New_York:20260826T191500
DTEND;TZID=America/New_York:20260826T221500
DTSTAMP:20260421T221938
CREATED:20260202T180334Z
LAST-MODIFIED:20260202T180334Z
UID:10004893-1787771700-1787782500@batteryatl.com
SUMMARY:Atlanta Braves vs Los Angeles Dodgers
DESCRIPTION:Join us as the Atlanta Braves face off against the Los Angeles Dodgers at Truist Park! \nDates & Times for this series are as follows* \nTuesday\, August 25th: First Pitch – 7:15 pm \nWednesday\, August 26th: First Pitch – 7:15 pm \nThursday\, August 27th: First Pitch – 7:15 pm \n* Date & Time subject to change \nPlease be advised that road closures will go into effect prior to large events. \nPurchase your single game tickets here!
URL:https://batteryatl.com/event/atlanta-braves-vs-los-angeles-dodgers/2026-08-26/
LOCATION:Truist Park\, 755 Battery Avenue Southeast\, Atlanta\, GA\, 30339\, United States
CATEGORIES:Braves Game
ATTACH;FMTTYPE=image/png:https://batteryatl.com/wp-content/uploads/2026/02/Braves-vs.-Dodgers.png
GEO:33.8897616;-84.468553
X-APPLE-STRUCTURED-LOCATION;VALUE=URI;X-ADDRESS=Truist Park 755 Battery Avenue Southeast Atlanta GA 30339 United States;X-APPLE-RADIUS=500;X-TITLE=755 Battery Avenue Southeast:geo:-84.468553,33.8897616
END:VEVENT
BEGIN:VEVENT
DTSTART;TZID=America/New_York:20260827T191500
DTEND;TZID=America/New_York:20260827T221500
DTSTAMP:20260421T221938
CREATED:20260202T180334Z
LAST-MODIFIED:20260202T180334Z
UID:10004894-1787858100-1787868900@batteryatl.com
SUMMARY:Atlanta Braves vs Los Angeles Dodgers
DESCRIPTION:Join us as the Atlanta Braves face off against the Los Angeles Dodgers at Truist Park! \nDates & Times for this series are as follows* \nTuesday\, August 25th: First Pitch – 7:15 pm \nWednesday\, August 26th: First Pitch – 7:15 pm \nThursday\, August 27th: First Pitch – 7:15 pm \n* Date & Time subject to change \nPlease be advised that road closures will go into effect prior to large events. \nPurchase your single game tickets here!
URL:https://batteryatl.com/event/atlanta-braves-vs-los-angeles-dodgers/2026-08-27/
LOCATION:Truist Park\, 755 Battery Avenue Southeast\, Atlanta\, GA\, 30339\, United States
CATEGORIES:Braves Game
ATTACH;FMTTYPE=image/png:https://batteryatl.com/wp-content/uploads/2026/02/Braves-vs.-Dodgers.png
GEO:33.8897616;-84.468553
X-APPLE-STRUCTURED-LOCATION;VALUE=URI;X-ADDRESS=Truist Park 755 Battery Avenue Southeast Atlanta GA 30339 United States;X-APPLE-RADIUS=500;X-TITLE=755 Battery Avenue Southeast:geo:-84.468553,33.8897616
END:VEVENT
BEGIN:VEVENT
DTSTART;TZID=America/New_York:20260828T191500
DTEND;TZID=America/New_York:20260828T221500
DTSTAMP:20260421T221938
CREATED:20260202T180814Z
LAST-MODIFIED:20260202T214454Z
UID:10004895-1787944500-1787955300@batteryatl.com
SUMMARY:Atlanta Braves vs Colorado Rockies
DESCRIPTION:Join us as the Atlanta Braves face off against the Colorado Rockies at Truist Park! \nDates & Times for this series are as follows* \nFriday\, August 28th: First Pitch – 7:15 pm \nSaturday\, August 29th: First Pitch – 4:10 pm \nSunday\, August 30th: First Pitch – 1:35 pm (Kids Giveaway: Sliding Mitt) \n* Date & Time subject to change \nPlease be advised that road closures will go into effect prior to large events. \nPurchase your single game tickets here!
URL:https://batteryatl.com/event/atlanta-braves-vs-colorado-rockies/2026-08-28/
LOCATION:Truist Park\, 755 Battery Avenue Southeast\, Atlanta\, GA\, 30339\, United States
CATEGORIES:Braves Game
ATTACH;FMTTYPE=image/png:https://batteryatl.com/wp-content/uploads/2026/02/Braves-vs.-Rockies.png
GEO:33.8897616;-84.468553
X-APPLE-STRUCTURED-LOCATION;VALUE=URI;X-ADDRESS=Truist Park 755 Battery Avenue Southeast Atlanta GA 30339 United States;X-APPLE-RADIUS=500;X-TITLE=755 Battery Avenue Southeast:geo:-84.468553,33.8897616
END:VEVENT
BEGIN:VEVENT
DTSTART;TZID=America/New_York:20260829T161000
DTEND;TZID=America/New_York:20260829T191000
DTSTAMP:20260421T221938
CREATED:20260202T180814Z
LAST-MODIFIED:20260202T214454Z
UID:10004896-1788019800-1788030600@batteryatl.com
SUMMARY:Atlanta Braves vs Colorado Rockies
DESCRIPTION:Join us as the Atlanta Braves face off against the Colorado Rockies at Truist Park! \nDates & Times for this series are as follows* \nFriday\, August 28th: First Pitch – 7:15 pm \nSaturday\, August 29th: First Pitch – 4:10 pm \nSunday\, August 30th: First Pitch – 1:35 pm (Kids Giveaway: Sliding Mitt) \n* Date & Time subject to change \nPlease be advised that road closures will go into effect prior to large events. \nPurchase your single game tickets here!
URL:https://batteryatl.com/event/atlanta-braves-vs-colorado-rockies/2026-08-29/
LOCATION:Truist Park\, 755 Battery Avenue Southeast\, Atlanta\, GA\, 30339\, United States
CATEGORIES:Braves Game
ATTACH;FMTTYPE=image/png:https://batteryatl.com/wp-content/uploads/2026/02/Braves-vs.-Rockies.png
GEO:33.8897616;-84.468553
X-APPLE-STRUCTURED-LOCATION;VALUE=URI;X-ADDRESS=Truist Park 755 Battery Avenue Southeast Atlanta GA 30339 United States;X-APPLE-RADIUS=500;X-TITLE=755 Battery Avenue Southeast:geo:-84.468553,33.8897616
END:VEVENT
BEGIN:VEVENT
DTSTART;TZID=America/New_York:20260830T133500
DTEND;TZID=America/New_York:20260830T163500
DTSTAMP:20260421T221938
CREATED:20260202T180814Z
LAST-MODIFIED:20260202T214454Z
UID:10004897-1788096900-1788107700@batteryatl.com
SUMMARY:Atlanta Braves vs Colorado Rockies
DESCRIPTION:Join us as the Atlanta Braves face off against the Colorado Rockies at Truist Park! \nDates & Times for this series are as follows* \nFriday\, August 28th: First Pitch – 7:15 pm \nSaturday\, August 29th: First Pitch – 4:10 pm \nSunday\, August 30th: First Pitch – 1:35 pm (Kids Giveaway: Sliding Mitt) \n* Date & Time subject to change \nPlease be advised that road closures will go into effect prior to large events. \nPurchase your single game tickets here!
URL:https://batteryatl.com/event/atlanta-braves-vs-colorado-rockies/2026-08-30/
LOCATION:Truist Park\, 755 Battery Avenue Southeast\, Atlanta\, GA\, 30339\, United States
CATEGORIES:Braves Game
ATTACH;FMTTYPE=image/png:https://batteryatl.com/wp-content/uploads/2026/02/Braves-vs.-Rockies.png
GEO:33.8897616;-84.468553
X-APPLE-STRUCTURED-LOCATION;VALUE=URI;X-ADDRESS=Truist Park 755 Battery Avenue Southeast Atlanta GA 30339 United States;X-APPLE-RADIUS=500;X-TITLE=755 Battery Avenue Southeast:geo:-84.468553,33.8897616
END:VEVENT
END:VCALENDAR